BEGIN:VCALENDAR
VERSION:2.0
PRODID:-//House Noir LA - ECPv6.0.8//NONSGML v1.0//EN
CALSCALE:GREGORIAN
METHOD:PUBLISH
X-ORIGINAL-URL:https://housenoirla.com
X-WR-CALDESC:Events for House Noir LA
REFRESH-INTERVAL;VALUE=DURATION:PT1H
X-Robots-Tag:noindex
X-PUBLISHED-TTL:PT1H
BEGIN:VTIMEZONE
TZID:UTC
BEGIN:STANDARD
TZOFFSETFROM:+0000
TZOFFSETTO:+0000
TZNAME:UTC
DTSTART:20260101T000000
END:STANDARD
END:VTIMEZONE
BEGIN:VEVENT
DTSTART;TZID=UTC:20260529T230000
DTEND;TZID=UTC:20260529T230000
DTSTAMP:20260420T185132
CREATED:20230221T211703Z
LAST-MODIFIED:20230221T213322Z
UID:10000434-1780095600-1780095600@housenoirla.com
SUMMARY:MOTION FRIDAYS
DESCRIPTION:Every Friday!
URL:https://housenoirla.com/event/motion-fridays-2/2026-05-29/
CATEGORIES:Event
ATTACH;FMTTYPE=image/jpeg:https://housenoirla.com/wp-content/uploads/2023/02/IMG_0277_Facetune_21-02-2023-15-38-10-jpeg.webp
END:VEVENT
END:VCALENDAR