BEGIN:VCALENDAR
VERSION:2.0
PRODID:-//House Noir LA - ECPv6.0.8//NONSGML v1.0//EN
CALSCALE:GREGORIAN
METHOD:PUBLISH
X-ORIGINAL-URL:https://housenoirla.com
X-WR-CALDESC:Events for House Noir LA
REFRESH-INTERVAL;VALUE=DURATION:PT1H
X-Robots-Tag:noindex
X-PUBLISHED-TTL:PT1H
BEGIN:VTIMEZONE
TZID:UTC
BEGIN:STANDARD
TZOFFSETFROM:+0000
TZOFFSETTO:+0000
TZNAME:UTC
DTSTART:20250101T000000
END:STANDARD
END:VTIMEZONE
BEGIN:VEVENT
DTSTART;TZID=UTC:20250808T230000
DTEND;TZID=UTC:20250808T230000
DTSTAMP:20260420T205248
CREATED:20230221T211703Z
LAST-MODIFIED:20230221T213322Z
UID:10000392-1754694000-1754694000@housenoirla.com
SUMMARY:MOTION FRIDAYS
DESCRIPTION:Every Friday!
URL:https://housenoirla.com/event/motion-fridays-2/2025-08-08/
CATEGORIES:Event
ATTACH;FMTTYPE=image/jpeg:https://housenoirla.com/wp-content/uploads/2023/02/IMG_0277_Facetune_21-02-2023-15-38-10-jpeg.webp
END:VEVENT
BEGIN:VEVENT
DTSTART;TZID=UTC:20250801T230000
DTEND;TZID=UTC:20250801T230000
DTSTAMP:20260420T205248
CREATED:20230221T211703Z
LAST-MODIFIED:20230221T213322Z
UID:10000391-1754089200-1754089200@housenoirla.com
SUMMARY:MOTION FRIDAYS
DESCRIPTION:Every Friday!
URL:https://housenoirla.com/event/motion-fridays-2/2025-08-01/
CATEGORIES:Event
ATTACH;FMTTYPE=image/jpeg:https://housenoirla.com/wp-content/uploads/2023/02/IMG_0277_Facetune_21-02-2023-15-38-10-jpeg.webp
END:VEVENT
BEGIN:VEVENT
DTSTART;TZID=UTC:20250725T230000
DTEND;TZID=UTC:20250725T230000
DTSTAMP:20260420T205249
CREATED:20230221T211703Z
LAST-MODIFIED:20230221T213322Z
UID:10000390-1753484400-1753484400@housenoirla.com
SUMMARY:MOTION FRIDAYS
DESCRIPTION:Every Friday!
URL:https://housenoirla.com/event/motion-fridays-2/2025-07-25/
CATEGORIES:Event
ATTACH;FMTTYPE=image/jpeg:https://housenoirla.com/wp-content/uploads/2023/02/IMG_0277_Facetune_21-02-2023-15-38-10-jpeg.webp
END:VEVENT
BEGIN:VEVENT
DTSTART;TZID=UTC:20250718T230000
DTEND;TZID=UTC:20250718T230000
DTSTAMP:20260420T205249
CREATED:20230221T211703Z
LAST-MODIFIED:20230221T213322Z
UID:10000389-1752879600-1752879600@housenoirla.com
SUMMARY:MOTION FRIDAYS
DESCRIPTION:Every Friday!
URL:https://housenoirla.com/event/motion-fridays-2/2025-07-18/
CATEGORIES:Event
ATTACH;FMTTYPE=image/jpeg:https://housenoirla.com/wp-content/uploads/2023/02/IMG_0277_Facetune_21-02-2023-15-38-10-jpeg.webp
END:VEVENT
BEGIN:VEVENT
DTSTART;TZID=UTC:20250711T230000
DTEND;TZID=UTC:20250711T230000
DTSTAMP:20260420T205249
CREATED:20230221T211703Z
LAST-MODIFIED:20230221T213322Z
UID:10000388-1752274800-1752274800@housenoirla.com
SUMMARY:MOTION FRIDAYS
DESCRIPTION:Every Friday!
URL:https://housenoirla.com/event/motion-fridays-2/2025-07-11/
CATEGORIES:Event
ATTACH;FMTTYPE=image/jpeg:https://housenoirla.com/wp-content/uploads/2023/02/IMG_0277_Facetune_21-02-2023-15-38-10-jpeg.webp
END:VEVENT
BEGIN:VEVENT
DTSTART;TZID=UTC:20250704T230000
DTEND;TZID=UTC:20250704T230000
DTSTAMP:20260420T205249
CREATED:20230221T211703Z
LAST-MODIFIED:20230221T213322Z
UID:10000387-1751670000-1751670000@housenoirla.com
SUMMARY:MOTION FRIDAYS
DESCRIPTION:Every Friday!
URL:https://housenoirla.com/event/motion-fridays-2/2025-07-04/
CATEGORIES:Event
ATTACH;FMTTYPE=image/jpeg:https://housenoirla.com/wp-content/uploads/2023/02/IMG_0277_Facetune_21-02-2023-15-38-10-jpeg.webp
END:VEVENT
BEGIN:VEVENT
DTSTART;TZID=UTC:20250627T230000
DTEND;TZID=UTC:20250627T230000
DTSTAMP:20260420T205249
CREATED:20230221T211703Z
LAST-MODIFIED:20230221T213322Z
UID:10000386-1751065200-1751065200@housenoirla.com
SUMMARY:MOTION FRIDAYS
DESCRIPTION:Every Friday!
URL:https://housenoirla.com/event/motion-fridays-2/2025-06-27/
CATEGORIES:Event
ATTACH;FMTTYPE=image/jpeg:https://housenoirla.com/wp-content/uploads/2023/02/IMG_0277_Facetune_21-02-2023-15-38-10-jpeg.webp
END:VEVENT
BEGIN:VEVENT
DTSTART;TZID=UTC:20250620T230000
DTEND;TZID=UTC:20250620T230000
DTSTAMP:20260420T205249
CREATED:20230221T211703Z
LAST-MODIFIED:20230221T213322Z
UID:10000385-1750460400-1750460400@housenoirla.com
SUMMARY:MOTION FRIDAYS
DESCRIPTION:Every Friday!
URL:https://housenoirla.com/event/motion-fridays-2/2025-06-20/
CATEGORIES:Event
ATTACH;FMTTYPE=image/jpeg:https://housenoirla.com/wp-content/uploads/2023/02/IMG_0277_Facetune_21-02-2023-15-38-10-jpeg.webp
END:VEVENT
BEGIN:VEVENT
DTSTART;TZID=UTC:20250613T230000
DTEND;TZID=UTC:20250613T230000
DTSTAMP:20260420T205249
CREATED:20230221T211703Z
LAST-MODIFIED:20230221T213322Z
UID:10000384-1749855600-1749855600@housenoirla.com
SUMMARY:MOTION FRIDAYS
DESCRIPTION:Every Friday!
URL:https://housenoirla.com/event/motion-fridays-2/2025-06-13/
CATEGORIES:Event
ATTACH;FMTTYPE=image/jpeg:https://housenoirla.com/wp-content/uploads/2023/02/IMG_0277_Facetune_21-02-2023-15-38-10-jpeg.webp
END:VEVENT
BEGIN:VEVENT
DTSTART;TZID=UTC:20250606T230000
DTEND;TZID=UTC:20250606T230000
DTSTAMP:20260420T205249
CREATED:20230221T211703Z
LAST-MODIFIED:20230221T213322Z
UID:10000383-1749250800-1749250800@housenoirla.com
SUMMARY:MOTION FRIDAYS
DESCRIPTION:Every Friday!
URL:https://housenoirla.com/event/motion-fridays-2/2025-06-06/
CATEGORIES:Event
ATTACH;FMTTYPE=image/jpeg:https://housenoirla.com/wp-content/uploads/2023/02/IMG_0277_Facetune_21-02-2023-15-38-10-jpeg.webp
END:VEVENT
BEGIN:VEVENT
DTSTART;TZID=UTC:20250530T230000
DTEND;TZID=UTC:20250530T230000
DTSTAMP:20260420T205249
CREATED:20230221T211703Z
LAST-MODIFIED:20230221T213322Z
UID:10000382-1748646000-1748646000@housenoirla.com
SUMMARY:MOTION FRIDAYS
DESCRIPTION:Every Friday!
URL:https://housenoirla.com/event/motion-fridays-2/2025-05-30/
CATEGORIES:Event
ATTACH;FMTTYPE=image/jpeg:https://housenoirla.com/wp-content/uploads/2023/02/IMG_0277_Facetune_21-02-2023-15-38-10-jpeg.webp
END:VEVENT
BEGIN:VEVENT
DTSTART;TZID=UTC:20250523T230000
DTEND;TZID=UTC:20250523T230000
DTSTAMP:20260420T205249
CREATED:20230221T211703Z
LAST-MODIFIED:20230221T213322Z
UID:10000381-1748041200-1748041200@housenoirla.com
SUMMARY:MOTION FRIDAYS
DESCRIPTION:Every Friday!
URL:https://housenoirla.com/event/motion-fridays-2/2025-05-23/
CATEGORIES:Event
ATTACH;FMTTYPE=image/jpeg:https://housenoirla.com/wp-content/uploads/2023/02/IMG_0277_Facetune_21-02-2023-15-38-10-jpeg.webp
END:VEVENT
BEGIN:VEVENT
DTSTART;TZID=UTC:20250516T230000
DTEND;TZID=UTC:20250516T230000
DTSTAMP:20260420T205249
CREATED:20230221T211703Z
LAST-MODIFIED:20230221T213322Z
UID:10000380-1747436400-1747436400@housenoirla.com
SUMMARY:MOTION FRIDAYS
DESCRIPTION:Every Friday!
URL:https://housenoirla.com/event/motion-fridays-2/2025-05-16/
CATEGORIES:Event
ATTACH;FMTTYPE=image/jpeg:https://housenoirla.com/wp-content/uploads/2023/02/IMG_0277_Facetune_21-02-2023-15-38-10-jpeg.webp
END:VEVENT
BEGIN:VEVENT
DTSTART;TZID=UTC:20250509T230000
DTEND;TZID=UTC:20250509T230000
DTSTAMP:20260420T205249
CREATED:20230221T211703Z
LAST-MODIFIED:20230221T213322Z
UID:10000379-1746831600-1746831600@housenoirla.com
SUMMARY:MOTION FRIDAYS
DESCRIPTION:Every Friday!
URL:https://housenoirla.com/event/motion-fridays-2/2025-05-09/
CATEGORIES:Event
ATTACH;FMTTYPE=image/jpeg:https://housenoirla.com/wp-content/uploads/2023/02/IMG_0277_Facetune_21-02-2023-15-38-10-jpeg.webp
END:VEVENT
BEGIN:VEVENT
DTSTART;TZID=UTC:20250502T230000
DTEND;TZID=UTC:20250502T230000
DTSTAMP:20260420T205249
CREATED:20230221T211703Z
LAST-MODIFIED:20230221T213322Z
UID:10000378-1746226800-1746226800@housenoirla.com
SUMMARY:MOTION FRIDAYS
DESCRIPTION:Every Friday!
URL:https://housenoirla.com/event/motion-fridays-2/2025-05-02/
CATEGORIES:Event
ATTACH;FMTTYPE=image/jpeg:https://housenoirla.com/wp-content/uploads/2023/02/IMG_0277_Facetune_21-02-2023-15-38-10-jpeg.webp
END:VEVENT
BEGIN:VEVENT
DTSTART;TZID=UTC:20250425T230000
DTEND;TZID=UTC:20250425T230000
DTSTAMP:20260420T205249
CREATED:20230221T211703Z
LAST-MODIFIED:20230221T213322Z
UID:10000377-1745622000-1745622000@housenoirla.com
SUMMARY:MOTION FRIDAYS
DESCRIPTION:Every Friday!
URL:https://housenoirla.com/event/motion-fridays-2/2025-04-25/
CATEGORIES:Event
ATTACH;FMTTYPE=image/jpeg:https://housenoirla.com/wp-content/uploads/2023/02/IMG_0277_Facetune_21-02-2023-15-38-10-jpeg.webp
END:VEVENT
BEGIN:VEVENT
DTSTART;TZID=UTC:20250418T230000
DTEND;TZID=UTC:20250418T230000
DTSTAMP:20260420T205249
CREATED:20230221T211703Z
LAST-MODIFIED:20230221T213322Z
UID:10000376-1745017200-1745017200@housenoirla.com
SUMMARY:MOTION FRIDAYS
DESCRIPTION:Every Friday!
URL:https://housenoirla.com/event/motion-fridays-2/2025-04-18/
CATEGORIES:Event
ATTACH;FMTTYPE=image/jpeg:https://housenoirla.com/wp-content/uploads/2023/02/IMG_0277_Facetune_21-02-2023-15-38-10-jpeg.webp
END:VEVENT
BEGIN:VEVENT
DTSTART;TZID=UTC:20250411T230000
DTEND;TZID=UTC:20250411T230000
DTSTAMP:20260420T205249
CREATED:20230221T211703Z
LAST-MODIFIED:20230221T213322Z
UID:10000375-1744412400-1744412400@housenoirla.com
SUMMARY:MOTION FRIDAYS
DESCRIPTION:Every Friday!
URL:https://housenoirla.com/event/motion-fridays-2/2025-04-11/
CATEGORIES:Event
ATTACH;FMTTYPE=image/jpeg:https://housenoirla.com/wp-content/uploads/2023/02/IMG_0277_Facetune_21-02-2023-15-38-10-jpeg.webp
END:VEVENT
BEGIN:VEVENT
DTSTART;TZID=UTC:20250404T230000
DTEND;TZID=UTC:20250404T230000
DTSTAMP:20260420T205249
CREATED:20230221T211703Z
LAST-MODIFIED:20230221T213322Z
UID:10000374-1743807600-1743807600@housenoirla.com
SUMMARY:MOTION FRIDAYS
DESCRIPTION:Every Friday!
URL:https://housenoirla.com/event/motion-fridays-2/2025-04-04/
CATEGORIES:Event
ATTACH;FMTTYPE=image/jpeg:https://housenoirla.com/wp-content/uploads/2023/02/IMG_0277_Facetune_21-02-2023-15-38-10-jpeg.webp
END:VEVENT
BEGIN:VEVENT
DTSTART;TZID=UTC:20250328T230000
DTEND;TZID=UTC:20250328T230000
DTSTAMP:20260420T205249
CREATED:20230221T211703Z
LAST-MODIFIED:20230221T213322Z
UID:10000373-1743202800-1743202800@housenoirla.com
SUMMARY:MOTION FRIDAYS
DESCRIPTION:Every Friday!
URL:https://housenoirla.com/event/motion-fridays-2/2025-03-28/
CATEGORIES:Event
ATTACH;FMTTYPE=image/jpeg:https://housenoirla.com/wp-content/uploads/2023/02/IMG_0277_Facetune_21-02-2023-15-38-10-jpeg.webp
END:VEVENT
BEGIN:VEVENT
DTSTART;TZID=UTC:20250321T230000
DTEND;TZID=UTC:20250321T230000
DTSTAMP:20260420T205249
CREATED:20230221T211703Z
LAST-MODIFIED:20230221T213322Z
UID:10000372-1742598000-1742598000@housenoirla.com
SUMMARY:MOTION FRIDAYS
DESCRIPTION:Every Friday!
URL:https://housenoirla.com/event/motion-fridays-2/2025-03-21/
CATEGORIES:Event
ATTACH;FMTTYPE=image/jpeg:https://housenoirla.com/wp-content/uploads/2023/02/IMG_0277_Facetune_21-02-2023-15-38-10-jpeg.webp
END:VEVENT
BEGIN:VEVENT
DTSTART;TZID=UTC:20250314T230000
DTEND;TZID=UTC:20250314T230000
DTSTAMP:20260420T205249
CREATED:20230221T211703Z
LAST-MODIFIED:20230221T213322Z
UID:10000371-1741993200-1741993200@housenoirla.com
SUMMARY:MOTION FRIDAYS
DESCRIPTION:Every Friday!
URL:https://housenoirla.com/event/motion-fridays-2/2025-03-14/
CATEGORIES:Event
ATTACH;FMTTYPE=image/jpeg:https://housenoirla.com/wp-content/uploads/2023/02/IMG_0277_Facetune_21-02-2023-15-38-10-jpeg.webp
END:VEVENT
BEGIN:VEVENT
DTSTART;TZID=UTC:20250307T230000
DTEND;TZID=UTC:20250307T230000
DTSTAMP:20260420T205249
CREATED:20230221T211703Z
LAST-MODIFIED:20230221T213322Z
UID:10000370-1741388400-1741388400@housenoirla.com
SUMMARY:MOTION FRIDAYS
DESCRIPTION:Every Friday!
URL:https://housenoirla.com/event/motion-fridays-2/2025-03-07/
CATEGORIES:Event
ATTACH;FMTTYPE=image/jpeg:https://housenoirla.com/wp-content/uploads/2023/02/IMG_0277_Facetune_21-02-2023-15-38-10-jpeg.webp
END:VEVENT
BEGIN:VEVENT
DTSTART;TZID=UTC:20250228T230000
DTEND;TZID=UTC:20250228T230000
DTSTAMP:20260420T205249
CREATED:20230221T211703Z
LAST-MODIFIED:20230221T213322Z
UID:10000369-1740783600-1740783600@housenoirla.com
SUMMARY:MOTION FRIDAYS
DESCRIPTION:Every Friday!
URL:https://housenoirla.com/event/motion-fridays-2/2025-02-28/
CATEGORIES:Event
ATTACH;FMTTYPE=image/jpeg:https://housenoirla.com/wp-content/uploads/2023/02/IMG_0277_Facetune_21-02-2023-15-38-10-jpeg.webp
END:VEVENT
BEGIN:VEVENT
DTSTART;TZID=UTC:20250221T230000
DTEND;TZID=UTC:20250221T230000
DTSTAMP:20260420T205249
CREATED:20230221T211703Z
LAST-MODIFIED:20230221T213322Z
UID:10000368-1740178800-1740178800@housenoirla.com
SUMMARY:MOTION FRIDAYS
DESCRIPTION:Every Friday!
URL:https://housenoirla.com/event/motion-fridays-2/2025-02-21/
CATEGORIES:Event
ATTACH;FMTTYPE=image/jpeg:https://housenoirla.com/wp-content/uploads/2023/02/IMG_0277_Facetune_21-02-2023-15-38-10-jpeg.webp
END:VEVENT
BEGIN:VEVENT
DTSTART;TZID=UTC:20250214T230000
DTEND;TZID=UTC:20250214T230000
DTSTAMP:20260420T205249
CREATED:20230221T211703Z
LAST-MODIFIED:20230221T213322Z
UID:10000367-1739574000-1739574000@housenoirla.com
SUMMARY:MOTION FRIDAYS
DESCRIPTION:Every Friday!
URL:https://housenoirla.com/event/motion-fridays-2/2025-02-14/
CATEGORIES:Event
ATTACH;FMTTYPE=image/jpeg:https://housenoirla.com/wp-content/uploads/2023/02/IMG_0277_Facetune_21-02-2023-15-38-10-jpeg.webp
END:VEVENT
BEGIN:VEVENT
DTSTART;TZID=UTC:20250207T230000
DTEND;TZID=UTC:20250207T230000
DTSTAMP:20260420T205249
CREATED:20230221T211703Z
LAST-MODIFIED:20230221T213322Z
UID:10000366-1738969200-1738969200@housenoirla.com
SUMMARY:MOTION FRIDAYS
DESCRIPTION:Every Friday!
URL:https://housenoirla.com/event/motion-fridays-2/2025-02-07/
CATEGORIES:Event
ATTACH;FMTTYPE=image/jpeg:https://housenoirla.com/wp-content/uploads/2023/02/IMG_0277_Facetune_21-02-2023-15-38-10-jpeg.webp
END:VEVENT
BEGIN:VEVENT
DTSTART;TZID=UTC:20250131T230000
DTEND;TZID=UTC:20250131T230000
DTSTAMP:20260420T205249
CREATED:20230221T211703Z
LAST-MODIFIED:20230221T213322Z
UID:10000365-1738364400-1738364400@housenoirla.com
SUMMARY:MOTION FRIDAYS
DESCRIPTION:Every Friday!
URL:https://housenoirla.com/event/motion-fridays-2/2025-01-31/
CATEGORIES:Event
ATTACH;FMTTYPE=image/jpeg:https://housenoirla.com/wp-content/uploads/2023/02/IMG_0277_Facetune_21-02-2023-15-38-10-jpeg.webp
END:VEVENT
BEGIN:VEVENT
DTSTART;TZID=UTC:20250124T230000
DTEND;TZID=UTC:20250124T230000
DTSTAMP:20260420T205249
CREATED:20230221T211703Z
LAST-MODIFIED:20230221T213322Z
UID:10000364-1737759600-1737759600@housenoirla.com
SUMMARY:MOTION FRIDAYS
DESCRIPTION:Every Friday!
URL:https://housenoirla.com/event/motion-fridays-2/2025-01-24/
CATEGORIES:Event
ATTACH;FMTTYPE=image/jpeg:https://housenoirla.com/wp-content/uploads/2023/02/IMG_0277_Facetune_21-02-2023-15-38-10-jpeg.webp
END:VEVENT
BEGIN:VEVENT
DTSTART;TZID=UTC:20250117T230000
DTEND;TZID=UTC:20250117T230000
DTSTAMP:20260420T205249
CREATED:20230221T211703Z
LAST-MODIFIED:20230221T213322Z
UID:10000363-1737154800-1737154800@housenoirla.com
SUMMARY:MOTION FRIDAYS
DESCRIPTION:Every Friday!
URL:https://housenoirla.com/event/motion-fridays-2/2025-01-17/
CATEGORIES:Event
ATTACH;FMTTYPE=image/jpeg:https://housenoirla.com/wp-content/uploads/2023/02/IMG_0277_Facetune_21-02-2023-15-38-10-jpeg.webp
END:VEVENT
END:VCALENDAR