BEGIN:VCALENDAR
VERSION:2.0
PRODID:-//House Noir LA - ECPv6.0.8//NONSGML v1.0//EN
CALSCALE:GREGORIAN
METHOD:PUBLISH
X-WR-CALNAME:House Noir LA
X-ORIGINAL-URL:https://housenoirla.com
X-WR-CALDESC:Events for House Noir LA
REFRESH-INTERVAL;VALUE=DURATION:PT1H
X-Robots-Tag:noindex
X-PUBLISHED-TTL:PT1H
BEGIN:VTIMEZONE
TZID:UTC
BEGIN:STANDARD
TZOFFSETFROM:+0000
TZOFFSETTO:+0000
TZNAME:UTC
DTSTART:20250101T000000
END:STANDARD
END:VTIMEZONE
BEGIN:VEVENT
DTSTART;TZID=UTC:20260612T230000
DTEND;TZID=UTC:20260612T230000
DTSTAMP:20260421T051833
CREATED:20230221T211703Z
LAST-MODIFIED:20230221T213322Z
UID:10000436-1781305200-1781305200@housenoirla.com
SUMMARY:MOTION FRIDAYS
DESCRIPTION:Every Friday!
URL:https://housenoirla.com/event/motion-fridays-2/2026-06-12/
CATEGORIES:Event
ATTACH;FMTTYPE=image/jpeg:https://housenoirla.com/wp-content/uploads/2023/02/IMG_0277_Facetune_21-02-2023-15-38-10-jpeg.webp
END:VEVENT
BEGIN:VEVENT
DTSTART;TZID=UTC:20260605T230000
DTEND;TZID=UTC:20260605T230000
DTSTAMP:20260421T051833
CREATED:20230221T211703Z
LAST-MODIFIED:20230221T213322Z
UID:10000435-1780700400-1780700400@housenoirla.com
SUMMARY:MOTION FRIDAYS
DESCRIPTION:Every Friday!
URL:https://housenoirla.com/event/motion-fridays-2/2026-06-05/
CATEGORIES:Event
ATTACH;FMTTYPE=image/jpeg:https://housenoirla.com/wp-content/uploads/2023/02/IMG_0277_Facetune_21-02-2023-15-38-10-jpeg.webp
END:VEVENT
BEGIN:VEVENT
DTSTART;TZID=UTC:20260529T230000
DTEND;TZID=UTC:20260529T230000
DTSTAMP:20260421T051833
CREATED:20230221T211703Z
LAST-MODIFIED:20230221T213322Z
UID:10000434-1780095600-1780095600@housenoirla.com
SUMMARY:MOTION FRIDAYS
DESCRIPTION:Every Friday!
URL:https://housenoirla.com/event/motion-fridays-2/2026-05-29/
CATEGORIES:Event
ATTACH;FMTTYPE=image/jpeg:https://housenoirla.com/wp-content/uploads/2023/02/IMG_0277_Facetune_21-02-2023-15-38-10-jpeg.webp
END:VEVENT
BEGIN:VEVENT
DTSTART;TZID=UTC:20260522T230000
DTEND;TZID=UTC:20260522T230000
DTSTAMP:20260421T051833
CREATED:20230221T211703Z
LAST-MODIFIED:20230221T213322Z
UID:10000433-1779490800-1779490800@housenoirla.com
SUMMARY:MOTION FRIDAYS
DESCRIPTION:Every Friday!
URL:https://housenoirla.com/event/motion-fridays-2/2026-05-22/
CATEGORIES:Event
ATTACH;FMTTYPE=image/jpeg:https://housenoirla.com/wp-content/uploads/2023/02/IMG_0277_Facetune_21-02-2023-15-38-10-jpeg.webp
END:VEVENT
BEGIN:VEVENT
DTSTART;TZID=UTC:20260515T230000
DTEND;TZID=UTC:20260515T230000
DTSTAMP:20260421T051833
CREATED:20230221T211703Z
LAST-MODIFIED:20230221T213322Z
UID:10000432-1778886000-1778886000@housenoirla.com
SUMMARY:MOTION FRIDAYS
DESCRIPTION:Every Friday!
URL:https://housenoirla.com/event/motion-fridays-2/2026-05-15/
CATEGORIES:Event
ATTACH;FMTTYPE=image/jpeg:https://housenoirla.com/wp-content/uploads/2023/02/IMG_0277_Facetune_21-02-2023-15-38-10-jpeg.webp
END:VEVENT
BEGIN:VEVENT
DTSTART;TZID=UTC:20260508T230000
DTEND;TZID=UTC:20260508T230000
DTSTAMP:20260421T051833
CREATED:20230221T211703Z
LAST-MODIFIED:20230221T213322Z
UID:10000431-1778281200-1778281200@housenoirla.com
SUMMARY:MOTION FRIDAYS
DESCRIPTION:Every Friday!
URL:https://housenoirla.com/event/motion-fridays-2/2026-05-08/
CATEGORIES:Event
ATTACH;FMTTYPE=image/jpeg:https://housenoirla.com/wp-content/uploads/2023/02/IMG_0277_Facetune_21-02-2023-15-38-10-jpeg.webp
END:VEVENT
BEGIN:VEVENT
DTSTART;TZID=UTC:20260501T230000
DTEND;TZID=UTC:20260501T230000
DTSTAMP:20260421T051833
CREATED:20230221T211703Z
LAST-MODIFIED:20230221T213322Z
UID:10000430-1777676400-1777676400@housenoirla.com
SUMMARY:MOTION FRIDAYS
DESCRIPTION:Every Friday!
URL:https://housenoirla.com/event/motion-fridays-2/2026-05-01/
CATEGORIES:Event
ATTACH;FMTTYPE=image/jpeg:https://housenoirla.com/wp-content/uploads/2023/02/IMG_0277_Facetune_21-02-2023-15-38-10-jpeg.webp
END:VEVENT
BEGIN:VEVENT
DTSTART;TZID=UTC:20260424T230000
DTEND;TZID=UTC:20260424T230000
DTSTAMP:20260421T051833
CREATED:20230221T211703Z
LAST-MODIFIED:20230221T213322Z
UID:10000429-1777071600-1777071600@housenoirla.com
SUMMARY:MOTION FRIDAYS
DESCRIPTION:Every Friday!
URL:https://housenoirla.com/event/motion-fridays-2/2026-04-24/
CATEGORIES:Event
ATTACH;FMTTYPE=image/jpeg:https://housenoirla.com/wp-content/uploads/2023/02/IMG_0277_Facetune_21-02-2023-15-38-10-jpeg.webp
END:VEVENT
BEGIN:VEVENT
DTSTART;TZID=UTC:20260417T230000
DTEND;TZID=UTC:20260417T230000
DTSTAMP:20260421T051833
CREATED:20230221T211703Z
LAST-MODIFIED:20230221T213322Z
UID:10000428-1776466800-1776466800@housenoirla.com
SUMMARY:MOTION FRIDAYS
DESCRIPTION:Every Friday!
URL:https://housenoirla.com/event/motion-fridays-2/2026-04-17/
CATEGORIES:Event
ATTACH;FMTTYPE=image/jpeg:https://housenoirla.com/wp-content/uploads/2023/02/IMG_0277_Facetune_21-02-2023-15-38-10-jpeg.webp
END:VEVENT
BEGIN:VEVENT
DTSTART;TZID=UTC:20260410T230000
DTEND;TZID=UTC:20260410T230000
DTSTAMP:20260421T051833
CREATED:20230221T211703Z
LAST-MODIFIED:20230221T213322Z
UID:10000427-1775862000-1775862000@housenoirla.com
SUMMARY:MOTION FRIDAYS
DESCRIPTION:Every Friday!
URL:https://housenoirla.com/event/motion-fridays-2/2026-04-10/
CATEGORIES:Event
ATTACH;FMTTYPE=image/jpeg:https://housenoirla.com/wp-content/uploads/2023/02/IMG_0277_Facetune_21-02-2023-15-38-10-jpeg.webp
END:VEVENT
BEGIN:VEVENT
DTSTART;TZID=UTC:20260403T230000
DTEND;TZID=UTC:20260403T230000
DTSTAMP:20260421T051833
CREATED:20230221T211703Z
LAST-MODIFIED:20230221T213322Z
UID:10000426-1775257200-1775257200@housenoirla.com
SUMMARY:MOTION FRIDAYS
DESCRIPTION:Every Friday!
URL:https://housenoirla.com/event/motion-fridays-2/2026-04-03/
CATEGORIES:Event
ATTACH;FMTTYPE=image/jpeg:https://housenoirla.com/wp-content/uploads/2023/02/IMG_0277_Facetune_21-02-2023-15-38-10-jpeg.webp
END:VEVENT
BEGIN:VEVENT
DTSTART;TZID=UTC:20260327T230000
DTEND;TZID=UTC:20260327T230000
DTSTAMP:20260421T051833
CREATED:20230221T211703Z
LAST-MODIFIED:20230221T213322Z
UID:10000425-1774652400-1774652400@housenoirla.com
SUMMARY:MOTION FRIDAYS
DESCRIPTION:Every Friday!
URL:https://housenoirla.com/event/motion-fridays-2/2026-03-27/
CATEGORIES:Event
ATTACH;FMTTYPE=image/jpeg:https://housenoirla.com/wp-content/uploads/2023/02/IMG_0277_Facetune_21-02-2023-15-38-10-jpeg.webp
END:VEVENT
BEGIN:VEVENT
DTSTART;TZID=UTC:20260320T230000
DTEND;TZID=UTC:20260320T230000
DTSTAMP:20260421T051833
CREATED:20230221T211703Z
LAST-MODIFIED:20230221T213322Z
UID:10000424-1774047600-1774047600@housenoirla.com
SUMMARY:MOTION FRIDAYS
DESCRIPTION:Every Friday!
URL:https://housenoirla.com/event/motion-fridays-2/2026-03-20/
CATEGORIES:Event
ATTACH;FMTTYPE=image/jpeg:https://housenoirla.com/wp-content/uploads/2023/02/IMG_0277_Facetune_21-02-2023-15-38-10-jpeg.webp
END:VEVENT
BEGIN:VEVENT
DTSTART;TZID=UTC:20260313T230000
DTEND;TZID=UTC:20260313T230000
DTSTAMP:20260421T051833
CREATED:20230221T211703Z
LAST-MODIFIED:20230221T213322Z
UID:10000423-1773442800-1773442800@housenoirla.com
SUMMARY:MOTION FRIDAYS
DESCRIPTION:Every Friday!
URL:https://housenoirla.com/event/motion-fridays-2/2026-03-13/
CATEGORIES:Event
ATTACH;FMTTYPE=image/jpeg:https://housenoirla.com/wp-content/uploads/2023/02/IMG_0277_Facetune_21-02-2023-15-38-10-jpeg.webp
END:VEVENT
BEGIN:VEVENT
DTSTART;TZID=UTC:20260306T230000
DTEND;TZID=UTC:20260306T230000
DTSTAMP:20260421T051833
CREATED:20230221T211703Z
LAST-MODIFIED:20230221T213322Z
UID:10000422-1772838000-1772838000@housenoirla.com
SUMMARY:MOTION FRIDAYS
DESCRIPTION:Every Friday!
URL:https://housenoirla.com/event/motion-fridays-2/2026-03-06/
CATEGORIES:Event
ATTACH;FMTTYPE=image/jpeg:https://housenoirla.com/wp-content/uploads/2023/02/IMG_0277_Facetune_21-02-2023-15-38-10-jpeg.webp
END:VEVENT
BEGIN:VEVENT
DTSTART;TZID=UTC:20260227T230000
DTEND;TZID=UTC:20260227T230000
DTSTAMP:20260421T051833
CREATED:20230221T211703Z
LAST-MODIFIED:20230221T213322Z
UID:10000421-1772233200-1772233200@housenoirla.com
SUMMARY:MOTION FRIDAYS
DESCRIPTION:Every Friday!
URL:https://housenoirla.com/event/motion-fridays-2/2026-02-27/
CATEGORIES:Event
ATTACH;FMTTYPE=image/jpeg:https://housenoirla.com/wp-content/uploads/2023/02/IMG_0277_Facetune_21-02-2023-15-38-10-jpeg.webp
END:VEVENT
BEGIN:VEVENT
DTSTART;TZID=UTC:20260220T230000
DTEND;TZID=UTC:20260220T230000
DTSTAMP:20260421T051833
CREATED:20230221T211703Z
LAST-MODIFIED:20230221T213322Z
UID:10000420-1771628400-1771628400@housenoirla.com
SUMMARY:MOTION FRIDAYS
DESCRIPTION:Every Friday!
URL:https://housenoirla.com/event/motion-fridays-2/2026-02-20/
CATEGORIES:Event
ATTACH;FMTTYPE=image/jpeg:https://housenoirla.com/wp-content/uploads/2023/02/IMG_0277_Facetune_21-02-2023-15-38-10-jpeg.webp
END:VEVENT
BEGIN:VEVENT
DTSTART;TZID=UTC:20260213T230000
DTEND;TZID=UTC:20260213T230000
DTSTAMP:20260421T051833
CREATED:20230221T211703Z
LAST-MODIFIED:20230221T213322Z
UID:10000419-1771023600-1771023600@housenoirla.com
SUMMARY:MOTION FRIDAYS
DESCRIPTION:Every Friday!
URL:https://housenoirla.com/event/motion-fridays-2/2026-02-13/
CATEGORIES:Event
ATTACH;FMTTYPE=image/jpeg:https://housenoirla.com/wp-content/uploads/2023/02/IMG_0277_Facetune_21-02-2023-15-38-10-jpeg.webp
END:VEVENT
BEGIN:VEVENT
DTSTART;TZID=UTC:20260206T230000
DTEND;TZID=UTC:20260206T230000
DTSTAMP:20260421T051833
CREATED:20230221T211703Z
LAST-MODIFIED:20230221T213322Z
UID:10000418-1770418800-1770418800@housenoirla.com
SUMMARY:MOTION FRIDAYS
DESCRIPTION:Every Friday!
URL:https://housenoirla.com/event/motion-fridays-2/2026-02-06/
CATEGORIES:Event
ATTACH;FMTTYPE=image/jpeg:https://housenoirla.com/wp-content/uploads/2023/02/IMG_0277_Facetune_21-02-2023-15-38-10-jpeg.webp
END:VEVENT
BEGIN:VEVENT
DTSTART;TZID=UTC:20260130T230000
DTEND;TZID=UTC:20260130T230000
DTSTAMP:20260421T051833
CREATED:20230221T211703Z
LAST-MODIFIED:20230221T213322Z
UID:10000417-1769814000-1769814000@housenoirla.com
SUMMARY:MOTION FRIDAYS
DESCRIPTION:Every Friday!
URL:https://housenoirla.com/event/motion-fridays-2/2026-01-30/
CATEGORIES:Event
ATTACH;FMTTYPE=image/jpeg:https://housenoirla.com/wp-content/uploads/2023/02/IMG_0277_Facetune_21-02-2023-15-38-10-jpeg.webp
END:VEVENT
BEGIN:VEVENT
DTSTART;TZID=UTC:20260123T230000
DTEND;TZID=UTC:20260123T230000
DTSTAMP:20260421T051833
CREATED:20230221T211703Z
LAST-MODIFIED:20230221T213322Z
UID:10000416-1769209200-1769209200@housenoirla.com
SUMMARY:MOTION FRIDAYS
DESCRIPTION:Every Friday!
URL:https://housenoirla.com/event/motion-fridays-2/2026-01-23/
CATEGORIES:Event
ATTACH;FMTTYPE=image/jpeg:https://housenoirla.com/wp-content/uploads/2023/02/IMG_0277_Facetune_21-02-2023-15-38-10-jpeg.webp
END:VEVENT
BEGIN:VEVENT
DTSTART;TZID=UTC:20260116T230000
DTEND;TZID=UTC:20260116T230000
DTSTAMP:20260421T051833
CREATED:20230221T211703Z
LAST-MODIFIED:20230221T213322Z
UID:10000415-1768604400-1768604400@housenoirla.com
SUMMARY:MOTION FRIDAYS
DESCRIPTION:Every Friday!
URL:https://housenoirla.com/event/motion-fridays-2/2026-01-16/
CATEGORIES:Event
ATTACH;FMTTYPE=image/jpeg:https://housenoirla.com/wp-content/uploads/2023/02/IMG_0277_Facetune_21-02-2023-15-38-10-jpeg.webp
END:VEVENT
BEGIN:VEVENT
DTSTART;TZID=UTC:20260109T230000
DTEND;TZID=UTC:20260109T230000
DTSTAMP:20260421T051833
CREATED:20230221T211703Z
LAST-MODIFIED:20230221T213322Z
UID:10000414-1767999600-1767999600@housenoirla.com
SUMMARY:MOTION FRIDAYS
DESCRIPTION:Every Friday!
URL:https://housenoirla.com/event/motion-fridays-2/2026-01-09/
CATEGORIES:Event
ATTACH;FMTTYPE=image/jpeg:https://housenoirla.com/wp-content/uploads/2023/02/IMG_0277_Facetune_21-02-2023-15-38-10-jpeg.webp
END:VEVENT
BEGIN:VEVENT
DTSTART;TZID=UTC:20260102T230000
DTEND;TZID=UTC:20260102T230000
DTSTAMP:20260421T051833
CREATED:20230221T211703Z
LAST-MODIFIED:20230221T213322Z
UID:10000413-1767394800-1767394800@housenoirla.com
SUMMARY:MOTION FRIDAYS
DESCRIPTION:Every Friday!
URL:https://housenoirla.com/event/motion-fridays-2/2026-01-02/
CATEGORIES:Event
ATTACH;FMTTYPE=image/jpeg:https://housenoirla.com/wp-content/uploads/2023/02/IMG_0277_Facetune_21-02-2023-15-38-10-jpeg.webp
END:VEVENT
BEGIN:VEVENT
DTSTART;TZID=UTC:20251226T230000
DTEND;TZID=UTC:20251226T230000
DTSTAMP:20260421T051833
CREATED:20230221T211703Z
LAST-MODIFIED:20230221T213322Z
UID:10000412-1766790000-1766790000@housenoirla.com
SUMMARY:MOTION FRIDAYS
DESCRIPTION:Every Friday!
URL:https://housenoirla.com/event/motion-fridays-2/2025-12-26/
CATEGORIES:Event
ATTACH;FMTTYPE=image/jpeg:https://housenoirla.com/wp-content/uploads/2023/02/IMG_0277_Facetune_21-02-2023-15-38-10-jpeg.webp
END:VEVENT
BEGIN:VEVENT
DTSTART;TZID=UTC:20251219T230000
DTEND;TZID=UTC:20251219T230000
DTSTAMP:20260421T051833
CREATED:20230221T211703Z
LAST-MODIFIED:20230221T213322Z
UID:10000411-1766185200-1766185200@housenoirla.com
SUMMARY:MOTION FRIDAYS
DESCRIPTION:Every Friday!
URL:https://housenoirla.com/event/motion-fridays-2/2025-12-19/
CATEGORIES:Event
ATTACH;FMTTYPE=image/jpeg:https://housenoirla.com/wp-content/uploads/2023/02/IMG_0277_Facetune_21-02-2023-15-38-10-jpeg.webp
END:VEVENT
BEGIN:VEVENT
DTSTART;TZID=UTC:20251212T230000
DTEND;TZID=UTC:20251212T230000
DTSTAMP:20260421T051833
CREATED:20230221T211703Z
LAST-MODIFIED:20230221T213322Z
UID:10000410-1765580400-1765580400@housenoirla.com
SUMMARY:MOTION FRIDAYS
DESCRIPTION:Every Friday!
URL:https://housenoirla.com/event/motion-fridays-2/2025-12-12/
CATEGORIES:Event
ATTACH;FMTTYPE=image/jpeg:https://housenoirla.com/wp-content/uploads/2023/02/IMG_0277_Facetune_21-02-2023-15-38-10-jpeg.webp
END:VEVENT
BEGIN:VEVENT
DTSTART;TZID=UTC:20251205T230000
DTEND;TZID=UTC:20251205T230000
DTSTAMP:20260421T051833
CREATED:20230221T211703Z
LAST-MODIFIED:20230221T213322Z
UID:10000409-1764975600-1764975600@housenoirla.com
SUMMARY:MOTION FRIDAYS
DESCRIPTION:Every Friday!
URL:https://housenoirla.com/event/motion-fridays-2/2025-12-05/
CATEGORIES:Event
ATTACH;FMTTYPE=image/jpeg:https://housenoirla.com/wp-content/uploads/2023/02/IMG_0277_Facetune_21-02-2023-15-38-10-jpeg.webp
END:VEVENT
BEGIN:VEVENT
DTSTART;TZID=UTC:20251128T230000
DTEND;TZID=UTC:20251128T230000
DTSTAMP:20260421T051833
CREATED:20230221T211703Z
LAST-MODIFIED:20230221T213322Z
UID:10000408-1764370800-1764370800@housenoirla.com
SUMMARY:MOTION FRIDAYS
DESCRIPTION:Every Friday!
URL:https://housenoirla.com/event/motion-fridays-2/2025-11-28/
CATEGORIES:Event
ATTACH;FMTTYPE=image/jpeg:https://housenoirla.com/wp-content/uploads/2023/02/IMG_0277_Facetune_21-02-2023-15-38-10-jpeg.webp
END:VEVENT
BEGIN:VEVENT
DTSTART;TZID=UTC:20251121T230000
DTEND;TZID=UTC:20251121T230000
DTSTAMP:20260421T051833
CREATED:20230221T211703Z
LAST-MODIFIED:20230221T213322Z
UID:10000407-1763766000-1763766000@housenoirla.com
SUMMARY:MOTION FRIDAYS
DESCRIPTION:Every Friday!
URL:https://housenoirla.com/event/motion-fridays-2/2025-11-21/
CATEGORIES:Event
ATTACH;FMTTYPE=image/jpeg:https://housenoirla.com/wp-content/uploads/2023/02/IMG_0277_Facetune_21-02-2023-15-38-10-jpeg.webp
END:VEVENT
END:VCALENDAR