BEGIN:VCALENDAR
VERSION:2.0
PRODID:-//House Noir LA - ECPv6.0.8//NONSGML v1.0//EN
CALSCALE:GREGORIAN
METHOD:PUBLISH
X-WR-CALNAME:House Noir LA
X-ORIGINAL-URL:https://housenoirla.com
X-WR-CALDESC:Events for House Noir LA
REFRESH-INTERVAL;VALUE=DURATION:PT1H
X-Robots-Tag:noindex
X-PUBLISHED-TTL:PT1H
BEGIN:VTIMEZONE
TZID:UTC
BEGIN:STANDARD
TZOFFSETFROM:+0000
TZOFFSETTO:+0000
TZNAME:UTC
DTSTART:20260101T000000
END:STANDARD
END:VTIMEZONE
BEGIN:VEVENT
DTSTART;TZID=UTC:20260904T230000
DTEND;TZID=UTC:20260904T230000
DTSTAMP:20260421T034922
CREATED:20230221T211703Z
LAST-MODIFIED:20230221T213322Z
UID:10000448-1788562800-1788562800@housenoirla.com
SUMMARY:MOTION FRIDAYS
DESCRIPTION:Every Friday!
URL:https://housenoirla.com/event/motion-fridays-2/2026-09-04/
CATEGORIES:Event
ATTACH;FMTTYPE=image/jpeg:https://housenoirla.com/wp-content/uploads/2023/02/IMG_0277_Facetune_21-02-2023-15-38-10-jpeg.webp
END:VEVENT
BEGIN:VEVENT
DTSTART;TZID=UTC:20260911T230000
DTEND;TZID=UTC:20260911T230000
DTSTAMP:20260421T034922
CREATED:20230221T211703Z
LAST-MODIFIED:20230221T213322Z
UID:10000449-1789167600-1789167600@housenoirla.com
SUMMARY:MOTION FRIDAYS
DESCRIPTION:Every Friday!
URL:https://housenoirla.com/event/motion-fridays-2/2026-09-11/
CATEGORIES:Event
ATTACH;FMTTYPE=image/jpeg:https://housenoirla.com/wp-content/uploads/2023/02/IMG_0277_Facetune_21-02-2023-15-38-10-jpeg.webp
END:VEVENT
BEGIN:VEVENT
DTSTART;TZID=UTC:20260918T230000
DTEND;TZID=UTC:20260918T230000
DTSTAMP:20260421T034922
CREATED:20230221T211703Z
LAST-MODIFIED:20230221T213322Z
UID:10000450-1789772400-1789772400@housenoirla.com
SUMMARY:MOTION FRIDAYS
DESCRIPTION:Every Friday!
URL:https://housenoirla.com/event/motion-fridays-2/2026-09-18/
CATEGORIES:Event
ATTACH;FMTTYPE=image/jpeg:https://housenoirla.com/wp-content/uploads/2023/02/IMG_0277_Facetune_21-02-2023-15-38-10-jpeg.webp
END:VEVENT
BEGIN:VEVENT
DTSTART;TZID=UTC:20260925T230000
DTEND;TZID=UTC:20260925T230000
DTSTAMP:20260421T034922
CREATED:20230221T211703Z
LAST-MODIFIED:20230221T213322Z
UID:10000451-1790377200-1790377200@housenoirla.com
SUMMARY:MOTION FRIDAYS
DESCRIPTION:Every Friday!
URL:https://housenoirla.com/event/motion-fridays-2/2026-09-25/
CATEGORIES:Event
ATTACH;FMTTYPE=image/jpeg:https://housenoirla.com/wp-content/uploads/2023/02/IMG_0277_Facetune_21-02-2023-15-38-10-jpeg.webp
END:VEVENT
BEGIN:VEVENT
DTSTART;TZID=UTC:20261002T230000
DTEND;TZID=UTC:20261002T230000
DTSTAMP:20260421T034922
CREATED:20230221T211703Z
LAST-MODIFIED:20230221T213322Z
UID:10000452-1790982000-1790982000@housenoirla.com
SUMMARY:MOTION FRIDAYS
DESCRIPTION:Every Friday!
URL:https://housenoirla.com/event/motion-fridays-2/2026-10-02/
CATEGORIES:Event
ATTACH;FMTTYPE=image/jpeg:https://housenoirla.com/wp-content/uploads/2023/02/IMG_0277_Facetune_21-02-2023-15-38-10-jpeg.webp
END:VEVENT
BEGIN:VEVENT
DTSTART;TZID=UTC:20261009T230000
DTEND;TZID=UTC:20261009T230000
DTSTAMP:20260421T034922
CREATED:20230221T211703Z
LAST-MODIFIED:20230221T213322Z
UID:10000453-1791586800-1791586800@housenoirla.com
SUMMARY:MOTION FRIDAYS
DESCRIPTION:Every Friday!
URL:https://housenoirla.com/event/motion-fridays-2/2026-10-09/
CATEGORIES:Event
ATTACH;FMTTYPE=image/jpeg:https://housenoirla.com/wp-content/uploads/2023/02/IMG_0277_Facetune_21-02-2023-15-38-10-jpeg.webp
END:VEVENT
BEGIN:VEVENT
DTSTART;TZID=UTC:20261016T230000
DTEND;TZID=UTC:20261016T230000
DTSTAMP:20260421T034922
CREATED:20230221T211703Z
LAST-MODIFIED:20230221T213322Z
UID:10000454-1792191600-1792191600@housenoirla.com
SUMMARY:MOTION FRIDAYS
DESCRIPTION:Every Friday!
URL:https://housenoirla.com/event/motion-fridays-2/2026-10-16/
CATEGORIES:Event
ATTACH;FMTTYPE=image/jpeg:https://housenoirla.com/wp-content/uploads/2023/02/IMG_0277_Facetune_21-02-2023-15-38-10-jpeg.webp
END:VEVENT
BEGIN:VEVENT
DTSTART;TZID=UTC:20261023T230000
DTEND;TZID=UTC:20261023T230000
DTSTAMP:20260421T034922
CREATED:20230221T211703Z
LAST-MODIFIED:20230221T213322Z
UID:10000455-1792796400-1792796400@housenoirla.com
SUMMARY:MOTION FRIDAYS
DESCRIPTION:Every Friday!
URL:https://housenoirla.com/event/motion-fridays-2/2026-10-23/
CATEGORIES:Event
ATTACH;FMTTYPE=image/jpeg:https://housenoirla.com/wp-content/uploads/2023/02/IMG_0277_Facetune_21-02-2023-15-38-10-jpeg.webp
END:VEVENT
BEGIN:VEVENT
DTSTART;TZID=UTC:20261030T230000
DTEND;TZID=UTC:20261030T230000
DTSTAMP:20260421T034922
CREATED:20230221T211703Z
LAST-MODIFIED:20230221T213322Z
UID:10000456-1793401200-1793401200@housenoirla.com
SUMMARY:MOTION FRIDAYS
DESCRIPTION:Every Friday!
URL:https://housenoirla.com/event/motion-fridays-2/2026-10-30/
CATEGORIES:Event
ATTACH;FMTTYPE=image/jpeg:https://housenoirla.com/wp-content/uploads/2023/02/IMG_0277_Facetune_21-02-2023-15-38-10-jpeg.webp
END:VEVENT
BEGIN:VEVENT
DTSTART;TZID=UTC:20261106T230000
DTEND;TZID=UTC:20261106T230000
DTSTAMP:20260421T034922
CREATED:20230221T211703Z
LAST-MODIFIED:20230221T213322Z
UID:10000457-1794006000-1794006000@housenoirla.com
SUMMARY:MOTION FRIDAYS
DESCRIPTION:Every Friday!
URL:https://housenoirla.com/event/motion-fridays-2/2026-11-06/
CATEGORIES:Event
ATTACH;FMTTYPE=image/jpeg:https://housenoirla.com/wp-content/uploads/2023/02/IMG_0277_Facetune_21-02-2023-15-38-10-jpeg.webp
END:VEVENT
BEGIN:VEVENT
DTSTART;TZID=UTC:20261113T230000
DTEND;TZID=UTC:20261113T230000
DTSTAMP:20260421T034922
CREATED:20230221T211703Z
LAST-MODIFIED:20230221T213322Z
UID:10000458-1794610800-1794610800@housenoirla.com
SUMMARY:MOTION FRIDAYS
DESCRIPTION:Every Friday!
URL:https://housenoirla.com/event/motion-fridays-2/2026-11-13/
CATEGORIES:Event
ATTACH;FMTTYPE=image/jpeg:https://housenoirla.com/wp-content/uploads/2023/02/IMG_0277_Facetune_21-02-2023-15-38-10-jpeg.webp
END:VEVENT
BEGIN:VEVENT
DTSTART;TZID=UTC:20261120T230000
DTEND;TZID=UTC:20261120T230000
DTSTAMP:20260421T034922
CREATED:20230221T211703Z
LAST-MODIFIED:20230221T213322Z
UID:10000459-1795215600-1795215600@housenoirla.com
SUMMARY:MOTION FRIDAYS
DESCRIPTION:Every Friday!
URL:https://housenoirla.com/event/motion-fridays-2/2026-11-20/
CATEGORIES:Event
ATTACH;FMTTYPE=image/jpeg:https://housenoirla.com/wp-content/uploads/2023/02/IMG_0277_Facetune_21-02-2023-15-38-10-jpeg.webp
END:VEVENT
BEGIN:VEVENT
DTSTART;TZID=UTC:20261127T230000
DTEND;TZID=UTC:20261127T230000
DTSTAMP:20260421T034922
CREATED:20230221T211703Z
LAST-MODIFIED:20230221T213322Z
UID:10000460-1795820400-1795820400@housenoirla.com
SUMMARY:MOTION FRIDAYS
DESCRIPTION:Every Friday!
URL:https://housenoirla.com/event/motion-fridays-2/2026-11-27/
CATEGORIES:Event
ATTACH;FMTTYPE=image/jpeg:https://housenoirla.com/wp-content/uploads/2023/02/IMG_0277_Facetune_21-02-2023-15-38-10-jpeg.webp
END:VEVENT
BEGIN:VEVENT
DTSTART;TZID=UTC:20261204T230000
DTEND;TZID=UTC:20261204T230000
DTSTAMP:20260421T034922
CREATED:20230221T211703Z
LAST-MODIFIED:20230221T213322Z
UID:10000461-1796425200-1796425200@housenoirla.com
SUMMARY:MOTION FRIDAYS
DESCRIPTION:Every Friday!
URL:https://housenoirla.com/event/motion-fridays-2/2026-12-04/
CATEGORIES:Event
ATTACH;FMTTYPE=image/jpeg:https://housenoirla.com/wp-content/uploads/2023/02/IMG_0277_Facetune_21-02-2023-15-38-10-jpeg.webp
END:VEVENT
BEGIN:VEVENT
DTSTART;TZID=UTC:20261211T230000
DTEND;TZID=UTC:20261211T230000
DTSTAMP:20260421T034922
CREATED:20230221T211703Z
LAST-MODIFIED:20230221T213322Z
UID:10000462-1797030000-1797030000@housenoirla.com
SUMMARY:MOTION FRIDAYS
DESCRIPTION:Every Friday!
URL:https://housenoirla.com/event/motion-fridays-2/2026-12-11/
CATEGORIES:Event
ATTACH;FMTTYPE=image/jpeg:https://housenoirla.com/wp-content/uploads/2023/02/IMG_0277_Facetune_21-02-2023-15-38-10-jpeg.webp
END:VEVENT
BEGIN:VEVENT
DTSTART;TZID=UTC:20261218T230000
DTEND;TZID=UTC:20261218T230000
DTSTAMP:20260421T034922
CREATED:20230221T211703Z
LAST-MODIFIED:20230221T213322Z
UID:10000463-1797634800-1797634800@housenoirla.com
SUMMARY:MOTION FRIDAYS
DESCRIPTION:Every Friday!
URL:https://housenoirla.com/event/motion-fridays-2/2026-12-18/
CATEGORIES:Event
ATTACH;FMTTYPE=image/jpeg:https://housenoirla.com/wp-content/uploads/2023/02/IMG_0277_Facetune_21-02-2023-15-38-10-jpeg.webp
END:VEVENT
BEGIN:VEVENT
DTSTART;TZID=UTC:20261225T230000
DTEND;TZID=UTC:20261225T230000
DTSTAMP:20260421T034922
CREATED:20230221T211703Z
LAST-MODIFIED:20230221T213322Z
UID:10000464-1798239600-1798239600@housenoirla.com
SUMMARY:MOTION FRIDAYS
DESCRIPTION:Every Friday!
URL:https://housenoirla.com/event/motion-fridays-2/2026-12-25/
CATEGORIES:Event
ATTACH;FMTTYPE=image/jpeg:https://housenoirla.com/wp-content/uploads/2023/02/IMG_0277_Facetune_21-02-2023-15-38-10-jpeg.webp
END:VEVENT
BEGIN:VEVENT
DTSTART;TZID=UTC:20270101T230000
DTEND;TZID=UTC:20270101T230000
DTSTAMP:20260421T034922
CREATED:20230221T211703Z
LAST-MODIFIED:20230221T213322Z
UID:10000465-1798844400-1798844400@housenoirla.com
SUMMARY:MOTION FRIDAYS
DESCRIPTION:Every Friday!
URL:https://housenoirla.com/event/motion-fridays-2/2027-01-01/
CATEGORIES:Event
ATTACH;FMTTYPE=image/jpeg:https://housenoirla.com/wp-content/uploads/2023/02/IMG_0277_Facetune_21-02-2023-15-38-10-jpeg.webp
END:VEVENT
BEGIN:VEVENT
DTSTART;TZID=UTC:20270108T230000
DTEND;TZID=UTC:20270108T230000
DTSTAMP:20260421T034922
CREATED:20230221T211703Z
LAST-MODIFIED:20230221T213322Z
UID:10000466-1799449200-1799449200@housenoirla.com
SUMMARY:MOTION FRIDAYS
DESCRIPTION:Every Friday!
URL:https://housenoirla.com/event/motion-fridays-2/2027-01-08/
CATEGORIES:Event
ATTACH;FMTTYPE=image/jpeg:https://housenoirla.com/wp-content/uploads/2023/02/IMG_0277_Facetune_21-02-2023-15-38-10-jpeg.webp
END:VEVENT
BEGIN:VEVENT
DTSTART;TZID=UTC:20270115T230000
DTEND;TZID=UTC:20270115T230000
DTSTAMP:20260421T034922
CREATED:20230221T211703Z
LAST-MODIFIED:20230221T213322Z
UID:10000467-1800054000-1800054000@housenoirla.com
SUMMARY:MOTION FRIDAYS
DESCRIPTION:Every Friday!
URL:https://housenoirla.com/event/motion-fridays-2/2027-01-15/
CATEGORIES:Event
ATTACH;FMTTYPE=image/jpeg:https://housenoirla.com/wp-content/uploads/2023/02/IMG_0277_Facetune_21-02-2023-15-38-10-jpeg.webp
END:VEVENT
BEGIN:VEVENT
DTSTART;TZID=UTC:20270122T230000
DTEND;TZID=UTC:20270122T230000
DTSTAMP:20260421T034922
CREATED:20230221T211703Z
LAST-MODIFIED:20230221T213322Z
UID:10000468-1800658800-1800658800@housenoirla.com
SUMMARY:MOTION FRIDAYS
DESCRIPTION:Every Friday!
URL:https://housenoirla.com/event/motion-fridays-2/2027-01-22/
CATEGORIES:Event
ATTACH;FMTTYPE=image/jpeg:https://housenoirla.com/wp-content/uploads/2023/02/IMG_0277_Facetune_21-02-2023-15-38-10-jpeg.webp
END:VEVENT
BEGIN:VEVENT
DTSTART;TZID=UTC:20270129T230000
DTEND;TZID=UTC:20270129T230000
DTSTAMP:20260421T034922
CREATED:20230221T211703Z
LAST-MODIFIED:20230221T213322Z
UID:10000469-1801263600-1801263600@housenoirla.com
SUMMARY:MOTION FRIDAYS
DESCRIPTION:Every Friday!
URL:https://housenoirla.com/event/motion-fridays-2/2027-01-29/
CATEGORIES:Event
ATTACH;FMTTYPE=image/jpeg:https://housenoirla.com/wp-content/uploads/2023/02/IMG_0277_Facetune_21-02-2023-15-38-10-jpeg.webp
END:VEVENT
BEGIN:VEVENT
DTSTART;TZID=UTC:20270205T230000
DTEND;TZID=UTC:20270205T230000
DTSTAMP:20260421T034922
CREATED:20230221T211703Z
LAST-MODIFIED:20230221T213322Z
UID:10000470-1801868400-1801868400@housenoirla.com
SUMMARY:MOTION FRIDAYS
DESCRIPTION:Every Friday!
URL:https://housenoirla.com/event/motion-fridays-2/2027-02-05/
CATEGORIES:Event
ATTACH;FMTTYPE=image/jpeg:https://housenoirla.com/wp-content/uploads/2023/02/IMG_0277_Facetune_21-02-2023-15-38-10-jpeg.webp
END:VEVENT
BEGIN:VEVENT
DTSTART;TZID=UTC:20270212T230000
DTEND;TZID=UTC:20270212T230000
DTSTAMP:20260421T034922
CREATED:20230221T211703Z
LAST-MODIFIED:20230221T213322Z
UID:10000471-1802473200-1802473200@housenoirla.com
SUMMARY:MOTION FRIDAYS
DESCRIPTION:Every Friday!
URL:https://housenoirla.com/event/motion-fridays-2/2027-02-12/
CATEGORIES:Event
ATTACH;FMTTYPE=image/jpeg:https://housenoirla.com/wp-content/uploads/2023/02/IMG_0277_Facetune_21-02-2023-15-38-10-jpeg.webp
END:VEVENT
BEGIN:VEVENT
DTSTART;TZID=UTC:20270219T230000
DTEND;TZID=UTC:20270219T230000
DTSTAMP:20260421T034922
CREATED:20230221T211703Z
LAST-MODIFIED:20230221T213322Z
UID:10000472-1803078000-1803078000@housenoirla.com
SUMMARY:MOTION FRIDAYS
DESCRIPTION:Every Friday!
URL:https://housenoirla.com/event/motion-fridays-2/2027-02-19/
CATEGORIES:Event
ATTACH;FMTTYPE=image/jpeg:https://housenoirla.com/wp-content/uploads/2023/02/IMG_0277_Facetune_21-02-2023-15-38-10-jpeg.webp
END:VEVENT
BEGIN:VEVENT
DTSTART;TZID=UTC:20270226T230000
DTEND;TZID=UTC:20270226T230000
DTSTAMP:20260421T034922
CREATED:20230221T211703Z
LAST-MODIFIED:20230221T213322Z
UID:10000473-1803682800-1803682800@housenoirla.com
SUMMARY:MOTION FRIDAYS
DESCRIPTION:Every Friday!
URL:https://housenoirla.com/event/motion-fridays-2/2027-02-26/
CATEGORIES:Event
ATTACH;FMTTYPE=image/jpeg:https://housenoirla.com/wp-content/uploads/2023/02/IMG_0277_Facetune_21-02-2023-15-38-10-jpeg.webp
END:VEVENT
BEGIN:VEVENT
DTSTART;TZID=UTC:20270305T230000
DTEND;TZID=UTC:20270305T230000
DTSTAMP:20260421T034922
CREATED:20230221T211703Z
LAST-MODIFIED:20230221T213322Z
UID:10000474-1804287600-1804287600@housenoirla.com
SUMMARY:MOTION FRIDAYS
DESCRIPTION:Every Friday!
URL:https://housenoirla.com/event/motion-fridays-2/2027-03-05/
CATEGORIES:Event
ATTACH;FMTTYPE=image/jpeg:https://housenoirla.com/wp-content/uploads/2023/02/IMG_0277_Facetune_21-02-2023-15-38-10-jpeg.webp
END:VEVENT
BEGIN:VEVENT
DTSTART;TZID=UTC:20270312T230000
DTEND;TZID=UTC:20270312T230000
DTSTAMP:20260421T034922
CREATED:20230221T211703Z
LAST-MODIFIED:20230221T213322Z
UID:10000475-1804892400-1804892400@housenoirla.com
SUMMARY:MOTION FRIDAYS
DESCRIPTION:Every Friday!
URL:https://housenoirla.com/event/motion-fridays-2/2027-03-12/
CATEGORIES:Event
ATTACH;FMTTYPE=image/jpeg:https://housenoirla.com/wp-content/uploads/2023/02/IMG_0277_Facetune_21-02-2023-15-38-10-jpeg.webp
END:VEVENT
BEGIN:VEVENT
DTSTART;TZID=UTC:20270319T230000
DTEND;TZID=UTC:20270319T230000
DTSTAMP:20260421T034922
CREATED:20230221T211703Z
LAST-MODIFIED:20230221T213322Z
UID:10000476-1805497200-1805497200@housenoirla.com
SUMMARY:MOTION FRIDAYS
DESCRIPTION:Every Friday!
URL:https://housenoirla.com/event/motion-fridays-2/2027-03-19/
CATEGORIES:Event
ATTACH;FMTTYPE=image/jpeg:https://housenoirla.com/wp-content/uploads/2023/02/IMG_0277_Facetune_21-02-2023-15-38-10-jpeg.webp
END:VEVENT
BEGIN:VEVENT
DTSTART;TZID=UTC:20270326T230000
DTEND;TZID=UTC:20270326T230000
DTSTAMP:20260421T034922
CREATED:20230221T211703Z
LAST-MODIFIED:20230221T213322Z
UID:10000477-1806102000-1806102000@housenoirla.com
SUMMARY:MOTION FRIDAYS
DESCRIPTION:Every Friday!
URL:https://housenoirla.com/event/motion-fridays-2/2027-03-26/
CATEGORIES:Event
ATTACH;FMTTYPE=image/jpeg:https://housenoirla.com/wp-content/uploads/2023/02/IMG_0277_Facetune_21-02-2023-15-38-10-jpeg.webp
END:VEVENT
END:VCALENDAR