BEGIN:VCALENDAR
VERSION:2.0
PRODID:-//House Noir LA - ECPv6.0.8//NONSGML v1.0//EN
CALSCALE:GREGORIAN
METHOD:PUBLISH
X-WR-CALNAME:House Noir LA
X-ORIGINAL-URL:https://housenoirla.com
X-WR-CALDESC:Events for House Noir LA
REFRESH-INTERVAL;VALUE=DURATION:PT1H
X-Robots-Tag:noindex
X-PUBLISHED-TTL:PT1H
BEGIN:VTIMEZONE
TZID:UTC
BEGIN:STANDARD
TZOFFSETFROM:+0000
TZOFFSETTO:+0000
TZNAME:UTC
DTSTART:20260101T000000
END:STANDARD
END:VTIMEZONE
BEGIN:VEVENT
DTSTART;TZID=UTC:20261225T230000
DTEND;TZID=UTC:20261225T230000
DTSTAMP:20260421T054903
CREATED:20230221T211703Z
LAST-MODIFIED:20230221T213322Z
UID:10000464-1798239600-1798239600@housenoirla.com
SUMMARY:MOTION FRIDAYS
DESCRIPTION:Every Friday!
URL:https://housenoirla.com/event/motion-fridays-2/2026-12-25/
CATEGORIES:Event
ATTACH;FMTTYPE=image/jpeg:https://housenoirla.com/wp-content/uploads/2023/02/IMG_0277_Facetune_21-02-2023-15-38-10-jpeg.webp
END:VEVENT
BEGIN:VEVENT
DTSTART;TZID=UTC:20270101T230000
DTEND;TZID=UTC:20270101T230000
DTSTAMP:20260421T054903
CREATED:20230221T211703Z
LAST-MODIFIED:20230221T213322Z
UID:10000465-1798844400-1798844400@housenoirla.com
SUMMARY:MOTION FRIDAYS
DESCRIPTION:Every Friday!
URL:https://housenoirla.com/event/motion-fridays-2/2027-01-01/
CATEGORIES:Event
ATTACH;FMTTYPE=image/jpeg:https://housenoirla.com/wp-content/uploads/2023/02/IMG_0277_Facetune_21-02-2023-15-38-10-jpeg.webp
END:VEVENT
BEGIN:VEVENT
DTSTART;TZID=UTC:20270108T230000
DTEND;TZID=UTC:20270108T230000
DTSTAMP:20260421T054903
CREATED:20230221T211703Z
LAST-MODIFIED:20230221T213322Z
UID:10000466-1799449200-1799449200@housenoirla.com
SUMMARY:MOTION FRIDAYS
DESCRIPTION:Every Friday!
URL:https://housenoirla.com/event/motion-fridays-2/2027-01-08/
CATEGORIES:Event
ATTACH;FMTTYPE=image/jpeg:https://housenoirla.com/wp-content/uploads/2023/02/IMG_0277_Facetune_21-02-2023-15-38-10-jpeg.webp
END:VEVENT
BEGIN:VEVENT
DTSTART;TZID=UTC:20270115T230000
DTEND;TZID=UTC:20270115T230000
DTSTAMP:20260421T054903
CREATED:20230221T211703Z
LAST-MODIFIED:20230221T213322Z
UID:10000467-1800054000-1800054000@housenoirla.com
SUMMARY:MOTION FRIDAYS
DESCRIPTION:Every Friday!
URL:https://housenoirla.com/event/motion-fridays-2/2027-01-15/
CATEGORIES:Event
ATTACH;FMTTYPE=image/jpeg:https://housenoirla.com/wp-content/uploads/2023/02/IMG_0277_Facetune_21-02-2023-15-38-10-jpeg.webp
END:VEVENT
BEGIN:VEVENT
DTSTART;TZID=UTC:20270122T230000
DTEND;TZID=UTC:20270122T230000
DTSTAMP:20260421T054903
CREATED:20230221T211703Z
LAST-MODIFIED:20230221T213322Z
UID:10000468-1800658800-1800658800@housenoirla.com
SUMMARY:MOTION FRIDAYS
DESCRIPTION:Every Friday!
URL:https://housenoirla.com/event/motion-fridays-2/2027-01-22/
CATEGORIES:Event
ATTACH;FMTTYPE=image/jpeg:https://housenoirla.com/wp-content/uploads/2023/02/IMG_0277_Facetune_21-02-2023-15-38-10-jpeg.webp
END:VEVENT
BEGIN:VEVENT
DTSTART;TZID=UTC:20270129T230000
DTEND;TZID=UTC:20270129T230000
DTSTAMP:20260421T054903
CREATED:20230221T211703Z
LAST-MODIFIED:20230221T213322Z
UID:10000469-1801263600-1801263600@housenoirla.com
SUMMARY:MOTION FRIDAYS
DESCRIPTION:Every Friday!
URL:https://housenoirla.com/event/motion-fridays-2/2027-01-29/
CATEGORIES:Event
ATTACH;FMTTYPE=image/jpeg:https://housenoirla.com/wp-content/uploads/2023/02/IMG_0277_Facetune_21-02-2023-15-38-10-jpeg.webp
END:VEVENT
BEGIN:VEVENT
DTSTART;TZID=UTC:20270205T230000
DTEND;TZID=UTC:20270205T230000
DTSTAMP:20260421T054903
CREATED:20230221T211703Z
LAST-MODIFIED:20230221T213322Z
UID:10000470-1801868400-1801868400@housenoirla.com
SUMMARY:MOTION FRIDAYS
DESCRIPTION:Every Friday!
URL:https://housenoirla.com/event/motion-fridays-2/2027-02-05/
CATEGORIES:Event
ATTACH;FMTTYPE=image/jpeg:https://housenoirla.com/wp-content/uploads/2023/02/IMG_0277_Facetune_21-02-2023-15-38-10-jpeg.webp
END:VEVENT
BEGIN:VEVENT
DTSTART;TZID=UTC:20270212T230000
DTEND;TZID=UTC:20270212T230000
DTSTAMP:20260421T054903
CREATED:20230221T211703Z
LAST-MODIFIED:20230221T213322Z
UID:10000471-1802473200-1802473200@housenoirla.com
SUMMARY:MOTION FRIDAYS
DESCRIPTION:Every Friday!
URL:https://housenoirla.com/event/motion-fridays-2/2027-02-12/
CATEGORIES:Event
ATTACH;FMTTYPE=image/jpeg:https://housenoirla.com/wp-content/uploads/2023/02/IMG_0277_Facetune_21-02-2023-15-38-10-jpeg.webp
END:VEVENT
BEGIN:VEVENT
DTSTART;TZID=UTC:20270219T230000
DTEND;TZID=UTC:20270219T230000
DTSTAMP:20260421T054903
CREATED:20230221T211703Z
LAST-MODIFIED:20230221T213322Z
UID:10000472-1803078000-1803078000@housenoirla.com
SUMMARY:MOTION FRIDAYS
DESCRIPTION:Every Friday!
URL:https://housenoirla.com/event/motion-fridays-2/2027-02-19/
CATEGORIES:Event
ATTACH;FMTTYPE=image/jpeg:https://housenoirla.com/wp-content/uploads/2023/02/IMG_0277_Facetune_21-02-2023-15-38-10-jpeg.webp
END:VEVENT
BEGIN:VEVENT
DTSTART;TZID=UTC:20270226T230000
DTEND;TZID=UTC:20270226T230000
DTSTAMP:20260421T054903
CREATED:20230221T211703Z
LAST-MODIFIED:20230221T213322Z
UID:10000473-1803682800-1803682800@housenoirla.com
SUMMARY:MOTION FRIDAYS
DESCRIPTION:Every Friday!
URL:https://housenoirla.com/event/motion-fridays-2/2027-02-26/
CATEGORIES:Event
ATTACH;FMTTYPE=image/jpeg:https://housenoirla.com/wp-content/uploads/2023/02/IMG_0277_Facetune_21-02-2023-15-38-10-jpeg.webp
END:VEVENT
BEGIN:VEVENT
DTSTART;TZID=UTC:20270305T230000
DTEND;TZID=UTC:20270305T230000
DTSTAMP:20260421T054903
CREATED:20230221T211703Z
LAST-MODIFIED:20230221T213322Z
UID:10000474-1804287600-1804287600@housenoirla.com
SUMMARY:MOTION FRIDAYS
DESCRIPTION:Every Friday!
URL:https://housenoirla.com/event/motion-fridays-2/2027-03-05/
CATEGORIES:Event
ATTACH;FMTTYPE=image/jpeg:https://housenoirla.com/wp-content/uploads/2023/02/IMG_0277_Facetune_21-02-2023-15-38-10-jpeg.webp
END:VEVENT
BEGIN:VEVENT
DTSTART;TZID=UTC:20270312T230000
DTEND;TZID=UTC:20270312T230000
DTSTAMP:20260421T054903
CREATED:20230221T211703Z
LAST-MODIFIED:20230221T213322Z
UID:10000475-1804892400-1804892400@housenoirla.com
SUMMARY:MOTION FRIDAYS
DESCRIPTION:Every Friday!
URL:https://housenoirla.com/event/motion-fridays-2/2027-03-12/
CATEGORIES:Event
ATTACH;FMTTYPE=image/jpeg:https://housenoirla.com/wp-content/uploads/2023/02/IMG_0277_Facetune_21-02-2023-15-38-10-jpeg.webp
END:VEVENT
BEGIN:VEVENT
DTSTART;TZID=UTC:20270319T230000
DTEND;TZID=UTC:20270319T230000
DTSTAMP:20260421T054903
CREATED:20230221T211703Z
LAST-MODIFIED:20230221T213322Z
UID:10000476-1805497200-1805497200@housenoirla.com
SUMMARY:MOTION FRIDAYS
DESCRIPTION:Every Friday!
URL:https://housenoirla.com/event/motion-fridays-2/2027-03-19/
CATEGORIES:Event
ATTACH;FMTTYPE=image/jpeg:https://housenoirla.com/wp-content/uploads/2023/02/IMG_0277_Facetune_21-02-2023-15-38-10-jpeg.webp
END:VEVENT
BEGIN:VEVENT
DTSTART;TZID=UTC:20270326T230000
DTEND;TZID=UTC:20270326T230000
DTSTAMP:20260421T054903
CREATED:20230221T211703Z
LAST-MODIFIED:20230221T213322Z
UID:10000477-1806102000-1806102000@housenoirla.com
SUMMARY:MOTION FRIDAYS
DESCRIPTION:Every Friday!
URL:https://housenoirla.com/event/motion-fridays-2/2027-03-26/
CATEGORIES:Event
ATTACH;FMTTYPE=image/jpeg:https://housenoirla.com/wp-content/uploads/2023/02/IMG_0277_Facetune_21-02-2023-15-38-10-jpeg.webp
END:VEVENT
BEGIN:VEVENT
DTSTART;TZID=UTC:20270402T230000
DTEND;TZID=UTC:20270402T230000
DTSTAMP:20260421T054903
CREATED:20230221T211703Z
LAST-MODIFIED:20230221T213322Z
UID:10000478-1806706800-1806706800@housenoirla.com
SUMMARY:MOTION FRIDAYS
DESCRIPTION:Every Friday!
URL:https://housenoirla.com/event/motion-fridays-2/2027-04-02/
CATEGORIES:Event
ATTACH;FMTTYPE=image/jpeg:https://housenoirla.com/wp-content/uploads/2023/02/IMG_0277_Facetune_21-02-2023-15-38-10-jpeg.webp
END:VEVENT
BEGIN:VEVENT
DTSTART;TZID=UTC:20270409T230000
DTEND;TZID=UTC:20270409T230000
DTSTAMP:20260421T054903
CREATED:20230221T211703Z
LAST-MODIFIED:20230221T213322Z
UID:10000479-1807311600-1807311600@housenoirla.com
SUMMARY:MOTION FRIDAYS
DESCRIPTION:Every Friday!
URL:https://housenoirla.com/event/motion-fridays-2/2027-04-09/
CATEGORIES:Event
ATTACH;FMTTYPE=image/jpeg:https://housenoirla.com/wp-content/uploads/2023/02/IMG_0277_Facetune_21-02-2023-15-38-10-jpeg.webp
END:VEVENT
BEGIN:VEVENT
DTSTART;TZID=UTC:20270416T230000
DTEND;TZID=UTC:20270416T230000
DTSTAMP:20260421T054903
CREATED:20230221T211703Z
LAST-MODIFIED:20230221T213322Z
UID:10000480-1807916400-1807916400@housenoirla.com
SUMMARY:MOTION FRIDAYS
DESCRIPTION:Every Friday!
URL:https://housenoirla.com/event/motion-fridays-2/2027-04-16/
CATEGORIES:Event
ATTACH;FMTTYPE=image/jpeg:https://housenoirla.com/wp-content/uploads/2023/02/IMG_0277_Facetune_21-02-2023-15-38-10-jpeg.webp
END:VEVENT
BEGIN:VEVENT
DTSTART;TZID=UTC:20270423T230000
DTEND;TZID=UTC:20270423T230000
DTSTAMP:20260421T054903
CREATED:20230221T211703Z
LAST-MODIFIED:20230221T213322Z
UID:10000481-1808521200-1808521200@housenoirla.com
SUMMARY:MOTION FRIDAYS
DESCRIPTION:Every Friday!
URL:https://housenoirla.com/event/motion-fridays-2/2027-04-23/
CATEGORIES:Event
ATTACH;FMTTYPE=image/jpeg:https://housenoirla.com/wp-content/uploads/2023/02/IMG_0277_Facetune_21-02-2023-15-38-10-jpeg.webp
END:VEVENT
BEGIN:VEVENT
DTSTART;TZID=UTC:20270430T230000
DTEND;TZID=UTC:20270430T230000
DTSTAMP:20260421T054903
CREATED:20230221T211703Z
LAST-MODIFIED:20230221T213322Z
UID:10000482-1809126000-1809126000@housenoirla.com
SUMMARY:MOTION FRIDAYS
DESCRIPTION:Every Friday!
URL:https://housenoirla.com/event/motion-fridays-2/2027-04-30/
CATEGORIES:Event
ATTACH;FMTTYPE=image/jpeg:https://housenoirla.com/wp-content/uploads/2023/02/IMG_0277_Facetune_21-02-2023-15-38-10-jpeg.webp
END:VEVENT
BEGIN:VEVENT
DTSTART;TZID=UTC:20270507T230000
DTEND;TZID=UTC:20270507T230000
DTSTAMP:20260421T054903
CREATED:20230221T211703Z
LAST-MODIFIED:20230221T213322Z
UID:10000483-1809730800-1809730800@housenoirla.com
SUMMARY:MOTION FRIDAYS
DESCRIPTION:Every Friday!
URL:https://housenoirla.com/event/motion-fridays-2/2027-05-07/
CATEGORIES:Event
ATTACH;FMTTYPE=image/jpeg:https://housenoirla.com/wp-content/uploads/2023/02/IMG_0277_Facetune_21-02-2023-15-38-10-jpeg.webp
END:VEVENT
BEGIN:VEVENT
DTSTART;TZID=UTC:20270514T230000
DTEND;TZID=UTC:20270514T230000
DTSTAMP:20260421T054903
CREATED:20230221T211703Z
LAST-MODIFIED:20230221T213322Z
UID:10000484-1810335600-1810335600@housenoirla.com
SUMMARY:MOTION FRIDAYS
DESCRIPTION:Every Friday!
URL:https://housenoirla.com/event/motion-fridays-2/2027-05-14/
CATEGORIES:Event
ATTACH;FMTTYPE=image/jpeg:https://housenoirla.com/wp-content/uploads/2023/02/IMG_0277_Facetune_21-02-2023-15-38-10-jpeg.webp
END:VEVENT
BEGIN:VEVENT
DTSTART;TZID=UTC:20270521T230000
DTEND;TZID=UTC:20270521T230000
DTSTAMP:20260421T054903
CREATED:20230221T211703Z
LAST-MODIFIED:20230221T213322Z
UID:10000485-1810940400-1810940400@housenoirla.com
SUMMARY:MOTION FRIDAYS
DESCRIPTION:Every Friday!
URL:https://housenoirla.com/event/motion-fridays-2/2027-05-21/
CATEGORIES:Event
ATTACH;FMTTYPE=image/jpeg:https://housenoirla.com/wp-content/uploads/2023/02/IMG_0277_Facetune_21-02-2023-15-38-10-jpeg.webp
END:VEVENT
BEGIN:VEVENT
DTSTART;TZID=UTC:20270528T230000
DTEND;TZID=UTC:20270528T230000
DTSTAMP:20260421T054903
CREATED:20230221T211703Z
LAST-MODIFIED:20230221T213322Z
UID:10000486-1811545200-1811545200@housenoirla.com
SUMMARY:MOTION FRIDAYS
DESCRIPTION:Every Friday!
URL:https://housenoirla.com/event/motion-fridays-2/2027-05-28/
CATEGORIES:Event
ATTACH;FMTTYPE=image/jpeg:https://housenoirla.com/wp-content/uploads/2023/02/IMG_0277_Facetune_21-02-2023-15-38-10-jpeg.webp
END:VEVENT
BEGIN:VEVENT
DTSTART;TZID=UTC:20270604T230000
DTEND;TZID=UTC:20270604T230000
DTSTAMP:20260421T054903
CREATED:20230221T211703Z
LAST-MODIFIED:20230221T213322Z
UID:10000487-1812150000-1812150000@housenoirla.com
SUMMARY:MOTION FRIDAYS
DESCRIPTION:Every Friday!
URL:https://housenoirla.com/event/motion-fridays-2/2027-06-04/
CATEGORIES:Event
ATTACH;FMTTYPE=image/jpeg:https://housenoirla.com/wp-content/uploads/2023/02/IMG_0277_Facetune_21-02-2023-15-38-10-jpeg.webp
END:VEVENT
BEGIN:VEVENT
DTSTART;TZID=UTC:20270611T230000
DTEND;TZID=UTC:20270611T230000
DTSTAMP:20260421T054903
CREATED:20230221T211703Z
LAST-MODIFIED:20230221T213322Z
UID:10000488-1812754800-1812754800@housenoirla.com
SUMMARY:MOTION FRIDAYS
DESCRIPTION:Every Friday!
URL:https://housenoirla.com/event/motion-fridays-2/2027-06-11/
CATEGORIES:Event
ATTACH;FMTTYPE=image/jpeg:https://housenoirla.com/wp-content/uploads/2023/02/IMG_0277_Facetune_21-02-2023-15-38-10-jpeg.webp
END:VEVENT
BEGIN:VEVENT
DTSTART;TZID=UTC:20270618T230000
DTEND;TZID=UTC:20270618T230000
DTSTAMP:20260421T054903
CREATED:20230221T211703Z
LAST-MODIFIED:20230221T213322Z
UID:10000489-1813359600-1813359600@housenoirla.com
SUMMARY:MOTION FRIDAYS
DESCRIPTION:Every Friday!
URL:https://housenoirla.com/event/motion-fridays-2/2027-06-18/
CATEGORIES:Event
ATTACH;FMTTYPE=image/jpeg:https://housenoirla.com/wp-content/uploads/2023/02/IMG_0277_Facetune_21-02-2023-15-38-10-jpeg.webp
END:VEVENT
BEGIN:VEVENT
DTSTART;TZID=UTC:20270625T230000
DTEND;TZID=UTC:20270625T230000
DTSTAMP:20260421T054903
CREATED:20230221T211703Z
LAST-MODIFIED:20230221T213322Z
UID:10000490-1813964400-1813964400@housenoirla.com
SUMMARY:MOTION FRIDAYS
DESCRIPTION:Every Friday!
URL:https://housenoirla.com/event/motion-fridays-2/2027-06-25/
CATEGORIES:Event
ATTACH;FMTTYPE=image/jpeg:https://housenoirla.com/wp-content/uploads/2023/02/IMG_0277_Facetune_21-02-2023-15-38-10-jpeg.webp
END:VEVENT
BEGIN:VEVENT
DTSTART;TZID=UTC:20270702T230000
DTEND;TZID=UTC:20270702T230000
DTSTAMP:20260421T054903
CREATED:20230221T211703Z
LAST-MODIFIED:20230221T213322Z
UID:10000491-1814569200-1814569200@housenoirla.com
SUMMARY:MOTION FRIDAYS
DESCRIPTION:Every Friday!
URL:https://housenoirla.com/event/motion-fridays-2/2027-07-02/
CATEGORIES:Event
ATTACH;FMTTYPE=image/jpeg:https://housenoirla.com/wp-content/uploads/2023/02/IMG_0277_Facetune_21-02-2023-15-38-10-jpeg.webp
END:VEVENT
BEGIN:VEVENT
DTSTART;TZID=UTC:20270709T230000
DTEND;TZID=UTC:20270709T230000
DTSTAMP:20260421T054903
CREATED:20230221T211703Z
LAST-MODIFIED:20230221T213322Z
UID:10000492-1815174000-1815174000@housenoirla.com
SUMMARY:MOTION FRIDAYS
DESCRIPTION:Every Friday!
URL:https://housenoirla.com/event/motion-fridays-2/2027-07-09/
CATEGORIES:Event
ATTACH;FMTTYPE=image/jpeg:https://housenoirla.com/wp-content/uploads/2023/02/IMG_0277_Facetune_21-02-2023-15-38-10-jpeg.webp
END:VEVENT
BEGIN:VEVENT
DTSTART;TZID=UTC:20270716T230000
DTEND;TZID=UTC:20270716T230000
DTSTAMP:20260421T054903
CREATED:20230221T211703Z
LAST-MODIFIED:20230221T213322Z
UID:10000493-1815778800-1815778800@housenoirla.com
SUMMARY:MOTION FRIDAYS
DESCRIPTION:Every Friday!
URL:https://housenoirla.com/event/motion-fridays-2/2027-07-16/
CATEGORIES:Event
ATTACH;FMTTYPE=image/jpeg:https://housenoirla.com/wp-content/uploads/2023/02/IMG_0277_Facetune_21-02-2023-15-38-10-jpeg.webp
END:VEVENT
END:VCALENDAR